BEGIN:VCALENDAR
VERSION:2.0
PRODID:-//Beagá Saúde - ECPv6.15.20//NONSGML v1.0//EN
CALSCALE:GREGORIAN
METHOD:PUBLISH
X-ORIGINAL-URL:https://beagasaude.com.br
X-WR-CALDESC:Eventos para Beagá Saúde
REFRESH-INTERVAL;VALUE=DURATION:PT1H
X-Robots-Tag:noindex
X-PUBLISHED-TTL:PT1H
BEGIN:VTIMEZONE
TZID:America/Sao_Paulo
BEGIN:STANDARD
TZOFFSETFROM:-0300
TZOFFSETTO:-0300
TZNAME:-03
DTSTART:20210101T000000
END:STANDARD
END:VTIMEZONE
BEGIN:VEVENT
DTSTART;VALUE=DATE:20231102
DTEND;VALUE=DATE:20231104
DTSTAMP:20260423T133408
CREATED:20231016T130915Z
LAST-MODIFIED:20231016T130915Z
UID:3360-1698883200-1699055999@beagasaude.com.br
SUMMARY:II Congresso Nacional de Ginecologia e Obstetrícia da Hapvida NotreDame Intermédica
DESCRIPTION:A programação conta com temas que representam desafios para ginecologistas e obstetras no ambiente hospitalar e ambulatorial\, como pré-eclâmpsia grave\, trombofilia na gestação\, patologia no trato genital inferior e endometriose. É destinado a médicos\, enfermeiros\, fisioterapeutas\, psicólogos\, nutricionistas e estudantes da área da saúde.
URL:https://beagasaude.com.br/evento/ii-congresso-nacional-de-ginecologia-e-obstetricia-da-hapvida-notredame-intermedica/
LOCATION:Minascentro\, Av. Augusto de Lima\, 785 - Centro\, Belo Horizonte\, Minas Gerais\, Brasil
ATTACH;FMTTYPE=image/png:https://beagasaude.com.br/wp-content/uploads/2023/10/obst.png
END:VEVENT
BEGIN:VEVENT
DTSTART;VALUE=DATE:20231025
DTEND;VALUE=DATE:20231029
DTSTAMP:20260423T133408
CREATED:20221228T124455Z
LAST-MODIFIED:20231016T131627Z
UID:2844-1698192000-1698537599@beagasaude.com.br
SUMMARY:XXIV Congresso da Sociedade Brasileira de Diabetes
DESCRIPTION:Evento abordará novos tratamentos para o diabetes\, a obesidade e seus impactos na saúde cardiovascular e renal dos pacientes.
URL:https://beagasaude.com.br/evento/xxiv-congresso-da-sociedade-brasileira-de-diabetes/
LOCATION:Expominas\, Av. Amazonas\, 6200 – Gameleira\, Belo Horizonte
ATTACH;FMTTYPE=image/png:https://beagasaude.com.br/wp-content/uploads/2022/12/lg_diabetes2023.png
END:VEVENT
BEGIN:VEVENT
DTSTART;VALUE=DATE:20231025
DTEND;VALUE=DATE:20231028
DTSTAMP:20260423T133408
CREATED:20231009T172744Z
LAST-MODIFIED:20231009T172744Z
UID:3354-1698192000-1698451199@beagasaude.com.br
SUMMARY:Seminário Internacional de Segurança Alimentar e Nutricional de Belo Horizonte
DESCRIPTION:Promovido pela Prefeitura de Belo Horizonte\, em parceria com o ICLEI – Governos Locais pela Sustentabilidade e a Rede de Intercâmbio de Tecnologias Alternativas\, o Seminário tem como tema “O Poder Transformador dos Sistemas Alimentares Sustentáveis”. O objetivo é construir redes\, fortalecer as políticas públicas e a construção de sistemas alimentares sustentáveis. \n 
URL:https://beagasaude.com.br/evento/seminario-internacional-de-seguranca-alimentar-e-nutricional-de-belo-horizonte/
LOCATION:Prefeitura de Belo Horizonte\, Av. Afonso Pena\, 1212 - Centro\, Belo Horizonte - MG\, Belo Horizonte\, Minas Gerais\, Brasil
ATTACH;FMTTYPE=image/png:https://beagasaude.com.br/wp-content/uploads/2023/10/seminario-seg-alimentar.png
END:VEVENT
BEGIN:VEVENT
DTSTART;TZID=America/Sao_Paulo:20231005T090000
DTEND;TZID=America/Sao_Paulo:20231005T200000
DTSTAMP:20260423T133408
CREATED:20230922T120726Z
LAST-MODIFIED:20230922T121056Z
UID:3316-1696496400-1696536000@beagasaude.com.br
SUMMARY:Feluma Summit - O futuro da saúde em Minas
DESCRIPTION:Grande evento de saúde e inovação para o desenvolvimento do ecossistema de negócios no Estado. O Feluma Summit é chancelado pelo Governo Estadual\, através da Invest Minas\, e promovido pela Fundação Educacional Lucas Machado (Feluma). \n\nMesa de abertura composta por governador do Estado de Minas Gerais\, Romeu Zema\, diretor do Invest Minas\, João Paulo Braga\, e o presidente da Feluma\, Wagner Ferreira. \n\nPalestra Magna: Cimed \nPainel I – Inovando em Saúde (Frederico Peret\, Diretor-presidente Unimed-BH\, José Vicente Alvarenga\, Diretor Executivo de TI e Digital do Grupo Fleury\, Matheus Junqueira\, Gerente de Inovação e Novos Negócios da Rede MaterDei) \nPainel II – Investindo em Minas (Guilherme da Cunha\, Secretário Executivo da Secretaria de Estado de Desenvolvimento Econômico de Minas Gerais\, Gustavo Garcia\, Diretor de Gestão e Novos Negócios na Invest Minas) \nChallenge Feluma Summit 2023 – rodada de apresentações de pitchs \n 
URL:https://beagasaude.com.br/evento/feluma-summit/
LOCATION:Teatro Feluma\, Alameda Ezequiel Dias\, 275\, 7º andar\, Centro\, Belo Horizonte\, Minas Gerais\, Brasil
ATTACH;FMTTYPE=image/png:https://beagasaude.com.br/wp-content/uploads/2023/09/feluma-summit-1.png
END:VEVENT
BEGIN:VEVENT
DTSTART;VALUE=DATE:20230926
DTEND;VALUE=DATE:20230929
DTSTAMP:20260423T133408
CREATED:20221205T233721Z
LAST-MODIFIED:20230524T015855Z
UID:2756-1695686400-1695945599@beagasaude.com.br
SUMMARY:Expo Hospital Brasil
DESCRIPTION:
URL:https://beagasaude.com.br/evento/expo-hospital-brasil/
LOCATION:Expominas\, Av. Amazonas\, 6200 – Gameleira\, Belo Horizonte
ATTACH;FMTTYPE=image/png:https://beagasaude.com.br/wp-content/uploads/2022/12/hospital.png
END:VEVENT
BEGIN:VEVENT
DTSTART;VALUE=DATE:20230905
DTEND;VALUE=DATE:20230910
DTSTAMP:20260423T133408
CREATED:20221228T123149Z
LAST-MODIFIED:20230524T020711Z
UID:2839-1693872000-1694303999@beagasaude.com.br
SUMMARY:71º Congresso Brasileiro de Coloproctologia 2023
DESCRIPTION:
URL:https://beagasaude.com.br/evento/71o-congresso-brasileiro-de-coloproctologia-2023/
LOCATION:Minascentro\, Av. Augusto de Lima\, 785 - Centro\, Belo Horizonte\, Minas Gerais\, Brasil
ATTACH;FMTTYPE=image/png:https://beagasaude.com.br/wp-content/uploads/2022/12/logo2-1.png
END:VEVENT
BEGIN:VEVENT
DTSTART;VALUE=DATE:20230823
DTEND;VALUE=DATE:20230826
DTSTAMP:20260423T133408
CREATED:20221228T125428Z
LAST-MODIFIED:20230524T015941Z
UID:2847-1692748800-1693007999@beagasaude.com.br
SUMMARY:Expo-dental Brasil / Simpósio de Odontologia Hospitalar
DESCRIPTION:
URL:https://beagasaude.com.br/evento/expo-dental-brasil-simposio-de-odontologia-hospitalar/
LOCATION:Expominas\, Av. Amazonas\, 6200 – Gameleira\, Belo Horizonte
ATTACH;FMTTYPE=image/png:https://beagasaude.com.br/wp-content/uploads/2022/12/dental.png
END:VEVENT
BEGIN:VEVENT
DTSTART;VALUE=DATE:20230702
DTEND;VALUE=DATE:20230705
DTSTAMP:20260423T133408
CREATED:20230524T015632Z
LAST-MODIFIED:20230524T015711Z
UID:3068-1688256000-1688515199@beagasaude.com.br
SUMMARY:Estética e Micro - Feira e Congresso 
DESCRIPTION:O Estética e Micro – Feira e Congresso é um evento focado nos segmentos de Estética\, Micropigmentação e Cílios. \nInstagram: @esteticaemicrobh
URL:https://beagasaude.com.br/evento/estetica-e-micro-feira-e-congresso/
LOCATION:Expominas\, Av. Amazonas\, 6200 – Gameleira\, Belo Horizonte
ATTACH;FMTTYPE=image/png:https://beagasaude.com.br/wp-content/uploads/2023/05/Estetica-e-Micro-2021-02c.png
END:VEVENT
BEGIN:VEVENT
DTSTART;VALUE=DATE:20230521
DTEND;VALUE=DATE:20230525
DTSTAMP:20260423T133408
CREATED:20221205T233458Z
LAST-MODIFIED:20221205T233458Z
UID:2753-1684627200-1684972799@beagasaude.com.br
SUMMARY:Feira Internacional de Tecnologias de Saneamento Ambiental 2023
DESCRIPTION:32º Congresso da ABES 2023 – Congresso Brasileiro de Engenharia Sanitária e Ambiental – CBESA / FITABES – Feira Internacional de Tecnologias de Saneamento Ambiental 2023
URL:https://beagasaude.com.br/evento/feira-internacional-de-tecnologias-de-saneamento-ambiental-2023/
LOCATION:Expominas\, Av. Amazonas\, 6200 – Gameleira\, Belo Horizonte
END:VEVENT
BEGIN:VEVENT
DTSTART;TZID=America/Sao_Paulo:20230325T080000
DTEND;TZID=America/Sao_Paulo:20230325T180000
DTSTAMP:20260423T133408
CREATED:20221205T233023Z
LAST-MODIFIED:20221205T233023Z
UID:2749-1679731200-1679767200@beagasaude.com.br
SUMMARY:Jornada de Medicina do Tráfego - ABRAMET 2023
DESCRIPTION:
URL:https://beagasaude.com.br/evento/jornada-de-medicina-do-trafego-abramet-2023/
LOCATION:Associação Médica de Minas Gerais – AMMG\, Avenida João Pinheiro\, 161 - Centro\, Belo Horizonte
END:VEVENT
BEGIN:VEVENT
DTSTART;TZID=America/Sao_Paulo:20221211T065900
DTEND;TZID=America/Sao_Paulo:20221211T170000
DTSTAMP:20260423T133408
CREATED:20221205T232309Z
LAST-MODIFIED:20221228T122152Z
UID:2744-1670741940-1670778000@beagasaude.com.br
SUMMARY:23ªVolta Internacional da Pampulha 2022
DESCRIPTION:
URL:https://beagasaude.com.br/evento/23avolta-internacional-da-pampulha-2022/
LOCATION:Lagoa da Pampulha\, Avenida Antônio Abrahão Caran\, Belo Horizonte\, Minas Gerais\, Brasil
END:VEVENT
BEGIN:VEVENT
DTSTART;TZID=America/Sao_Paulo:20221208T103000
DTEND;TZID=America/Sao_Paulo:20221210T173000
DTSTAMP:20260423T133408
CREATED:20221205T232719Z
LAST-MODIFIED:20221205T232719Z
UID:2746-1670495400-1670693400@beagasaude.com.br
SUMMARY:Expo Atleta
DESCRIPTION:
URL:https://beagasaude.com.br/evento/expo-atleta/
LOCATION:Power Shopping Centerminas\, Av. Pastor Anselmo Silvestre\, 1495 - União\, Belo Horizonte\, Minas Gerais
END:VEVENT
BEGIN:VEVENT
DTSTART;TZID=America/Sao_Paulo:20221208T080000
DTEND;TZID=America/Sao_Paulo:20221208T183000
DTSTAMP:20260423T133408
CREATED:20221205T170802Z
LAST-MODIFIED:20221205T171536Z
UID:2685-1670486400-1670524200@beagasaude.com.br
SUMMARY:1º Simpósio Mário Penna de Atualizações em Oncologia
DESCRIPTION:Com o tema “Interdisciplinaridade na assistência ao paciente oncológico”\, o evento irá debater desde aspectos essenciais para a assistência no tratamento do câncer\, como as principais inovações e possibilidades diagnósticas e de condução da jornada do paciente\, perpassando também por assuntos como inteligência artificial\, algoritmos\, gestão de dados e metaverso. A ação é aberta a toda a comunidade interessada no tema e as vagas são gratuitas\, porém limitadas. É necessário se inscrever previamente pelo link do Sympla.
URL:https://beagasaude.com.br/evento/1o-simposio-mario-penna-de-atualizacoes-em-oncologia/
LOCATION:Teatro Feluma\, Alameda Ezequiel Dias\, 275\, 7º andar\, Centro\, Belo Horizonte\, Minas Gerais\, Brasil
ATTACH;FMTTYPE=image/jpeg:https://beagasaude.com.br/wp-content/uploads/2022/12/banner-1920-X-1080-1Mariopena-scaled.jpg
END:VEVENT
END:VCALENDAR